BEGIN:VCALENDAR
VERSION:2.0
PRODID:-//https://www.aes.wolverhampton.gov.uk///NONSGML kigkonsult.se iCalcreator 2.10.15//
METHOD:PUBLISH
BEGIN:VEVENT
UID:20260423T183205+03-8847nLHe3N@https://www.aes.wolverhampton.gov.uk/
DTSTAMP:20260423T153205Z
DESCRIPTION:Join Us at the Jobs Fair hosted by Adult Education Wolverhampto
 n and Jobchange.\nOrganisations taking part:- Local recruitment agencies- 
 Wolverhampton Care Homes- Council's Supported Employment Team and many mor
 e...\nWhether you're a professional\, recent graduate\, or just looking fo
 r new options\, the Jobs Fair is the perfect place to see what is availabl
 e in the local job market.FREE Entry. Bring your CV.\nFor general informat
 ion and advice call our experienced and friendly Student Services team on 
 01902 558180 or email enquiries@aes.wolverhampton.gov.uk https://www.aes.w
 olverhampton.gov.uk/news-events/current-events/event/80-jobs-fair-tuesday-
 20-may-2025/
DTSTART:20250520T090000Z
DTEND:20250520T130000Z
LOCATION:Adult Education Wolverhampton\, Foyer Building\, Old Hall Street\,
  WV1 3AU (Adult Education Wolverhampton\, Foyer Building\, Old Hall Street
 \, WV1 3AU)
SUMMARY:Jobs Fair | Tuesday 20 May 2025
URL:https://www.aes.wolverhampton.gov.uk/news-events/current-events/event/8
 0-jobs-fair-tuesday-20-may-2025/
END:VEVENT
END:VCALENDAR
